BEGIN:VCALENDAR
VERSION:2.0
PRODID:-//Tukios.com/
BEGIN:VEVENT
UID:56074dd5-115d-4fec-9d92-9195ff580c17@www.schoenfhm.com
DTSTAMP:20260421T203027Z
DTSTART:20260428T150000Z
DTEND:20260428T160000Z
SUMMARY:Memorial Service
DESCRIPTION:
URL:https://www.schoenfhm.com/obituaries/tim-schneider
LOCATION: 1001 Morgan Ave  Downs KS 67437
GEO:39.5049314;-98.5440097
END:VEVENT
END:VCALENDAR